BEGIN:VCALENDAR
VERSION:2.0
PRODID:-//hacksw/handcal//NONSGML v1.0//EN
BEGIN:VEVENT
SUMMARY:SM2 vs Tain/Vion/Tournon
UID:e6ac0b78-dc9d-4d7b-ada3-3123ba7c05c8
DTSTART:20260426T120000Z
DTEND:20260426T220000Z
LOCATION:Localisation Halle Guy Lachaud 07100 Annonay
CATEGORIES:Sportif
STATUS:
URL;VALUE=URI:https://www.hbca07.fr/evenements/2026/04/26/sm2-vs-tainviontournon-2443085
END:VEVENT
END:VCALENDAR
