BEGIN:VCALENDAR
VERSION:2.0
PRODID:-//hacksw/handcal//NONSGML v1.0//EN
BEGIN:VEVENT
SUMMARY:SF vs St-Fons
UID:4708bf54-135c-41e3-a17d-0b1f368f66e7
DTSTART:20260426T140000Z
DTEND:20260426T220000Z
LOCATION:Localisation Halle Guy Lachaud 07100 Annonay
CATEGORIES:Sportif
STATUS:
URL;VALUE=URI:https://www.hbca07.fr/evenements/2026/04/26/sf-vs-st-fons-2443083
END:VEVENT
END:VCALENDAR
