BEGIN:VCALENDAR
VERSION:2.0
PRODID:-//hacksw/handcal//NONSGML v1.0//EN
BEGIN:VEVENT
SUMMARY:-13M vs Rhone-Eyrieux
UID:556c4cd6-2d58-4bd1-a6c4-7d06138c1a7f
DTSTART:20260426T083000Z
DTEND:20260426T220000Z
LOCATION:Localisation Halle Guy Lachaud 07100 
CATEGORIES:Sportif
STATUS:
URL;VALUE=URI:https://www.hbca07.fr/evenements/2026/04/26/13m-vs-rhone-eyrieux-2443087
END:VEVENT
END:VCALENDAR
